BEGIN:VCALENDAR
VERSION:2.0
PRODID:-//Urcec - ECPv6.15.20//NONSGML v1.0//EN
CALSCALE:GREGORIAN
METHOD:PUBLISH
X-ORIGINAL-URL:https://www.urcec.org
X-WR-CALDESC:Évènements pour Urcec
REFRESH-INTERVAL;VALUE=DURATION:PT1H
X-Robots-Tag:noindex
X-PUBLISHED-TTL:PT1H
BEGIN:VTIMEZONE
TZID:Europe/Paris
BEGIN:DAYLIGHT
TZOFFSETFROM:+0100
TZOFFSETTO:+0200
TZNAME:CEST
DTSTART:20250330T010000
END:DAYLIGHT
BEGIN:STANDARD
TZOFFSETFROM:+0200
TZOFFSETTO:+0100
TZNAME:CET
DTSTART:20251026T010000
END:STANDARD
BEGIN:DAYLIGHT
TZOFFSETFROM:+0100
TZOFFSETTO:+0200
TZNAME:CEST
DTSTART:20260329T010000
END:DAYLIGHT
BEGIN:STANDARD
TZOFFSETFROM:+0200
TZOFFSETTO:+0100
TZNAME:CET
DTSTART:20261025T010000
END:STANDARD
BEGIN:DAYLIGHT
TZOFFSETFROM:+0100
TZOFFSETTO:+0200
TZNAME:CEST
DTSTART:20270328T010000
END:DAYLIGHT
BEGIN:STANDARD
TZOFFSETFROM:+0200
TZOFFSETTO:+0100
TZNAME:CET
DTSTART:20271031T010000
END:STANDARD
END:VTIMEZONE
BEGIN:VEVENT
DTSTART;TZID=Europe/Paris:20260511T100000
DTEND;TZID=Europe/Paris:20260511T160000
DTSTAMP:20260421T195027
CREATED:20260401T124416Z
LAST-MODIFIED:20260401T130322Z
UID:3483-1778493600-1778515200@www.urcec.org
SUMMARY:Journée Régionale URCEC\, AURHA\, PACA
DESCRIPTION:Inscription
URL:https://www.urcec.org/evenement/journee-regionale-urcec-aurha-paca-2/
LOCATION:Espace Champagnat\, 45 rue d'Inkermann\, Lyon\, Auvergne Rhône Alpes\, 69006\, France
ATTACH;FMTTYPE=image/jpeg:https://www.urcec.org/wp-content/uploads/2025/02/LOGO-N_B.jpg
ORGANIZER;CN="URCEC":MAILTO:administration@urcec.org
END:VEVENT
END:VCALENDAR